Package: SNPRelate Version: 1.41.0 Command: /Library/Frameworks/R.framework/Resources/bin/R CMD build --keep-empty-dirs --no-resave-data SNPRelate StartedAt: 2025-02-05 18:23:22 -0500 (Wed, 05 Feb 2025) EndedAt: 2025-02-05 18:24:17 -0500 (Wed, 05 Feb 2025) EllapsedTime: 54.6 seconds RetCode: 0 Status: OK PackageFile: SNPRelate_1.41.0.tar.gz PackageFileSize: 3.348 MiB