Package: SNPRelate Version: 1.41.0 Command: /Library/Frameworks/R.framework/Resources/bin/R CMD INSTALL SNPRelate StartedAt: 2025-02-05 15:02:10 -0500 (Wed, 05 Feb 2025) EndedAt: 2025-02-05 15:02:20 -0500 (Wed, 05 Feb 2025) EllapsedTime: 9.1 seconds RetCode: 0 Status: OK