Package: SNPRelate Version: 1.41.0 Command: /Library/Frameworks/R.framework/Resources/bin/R CMD build --keep-empty-dirs --no-resave-data SNPRelate StartedAt: 2025-01-31 17:40:43 -0500 (Fri, 31 Jan 2025) EndedAt: 2025-01-31 17:41:00 -0500 (Fri, 31 Jan 2025) EllapsedTime: 17.2 seconds RetCode: 0 Status: OK PackageFile: SNPRelate_1.41.0.tar.gz PackageFileSize: 3.33 MiB