Package: SMITE Version: 1.37.0 Command: /home/biocbuild/R/R/bin/R CMD build --keep-empty-dirs --no-resave-data SMITE StartedAt: 2025-09-30 03:24:02 -0000 (Tue, 30 Sep 2025) EndedAt: 2025-09-30 03:25:34 -0000 (Tue, 30 Sep 2025) EllapsedTime: 92.0 seconds RetCode: 0 Status: OK PackageFile: SMITE_1.37.0.tar.gz PackageFileSize: 3.106 MiB