Package: SMITE Version: 1.35.0 Command: /Library/Frameworks/R.framework/Resources/bin/R CMD INSTALL SMITE StartedAt: 2025-02-16 15:23:39 -0500 (Sun, 16 Feb 2025) EndedAt: 2025-02-16 15:24:41 -0500 (Sun, 16 Feb 2025) EllapsedTime: 61.9 seconds RetCode: 0 Status: OK