Package: SMITE Version: 1.35.0 Command: /Library/Frameworks/R.framework/Resources/bin/R CMD check --install=check:SMITE.install-out.txt --library=/Library/Frameworks/R.framework/Resources/library --no-vignettes --timings SMITE_1.35.0.tar.gz StartedAt: 2025-02-16 23:12:47 -0500 (Sun, 16 Feb 2025) EndedAt: 2025-02-16 23:18:48 -0500 (Sun, 16 Feb 2025) EllapsedTime: 360.7 seconds RetCode: 0 Status: OK CheckDir: SMITE.Rcheck Warnings: 0