Package: SMITE Version: 1.35.0 Command: rm -rf SMITE.buildbin-libdir && mkdir SMITE.buildbin-libdir && /Users/biocbuild/BBS/utils/build-universal.sh SMITE_1.35.0.tar.gz /Library/Frameworks/R.framework/Resources/bin/R SMITE.buildbin-libdir StartedAt: 2025-02-17 00:44:15 -0500 (Mon, 17 Feb 2025) EndedAt: 2025-02-17 00:45:19 -0500 (Mon, 17 Feb 2025) EllapsedTime: 63.2 seconds RetCode: 0 Status: OK PackageFile: SMITE_1.35.0.tgz PackageFileSize: 3.578 MiB