Package: SMITE Version: 1.37.0 Command: /Library/Frameworks/R.framework/Resources/bin/R CMD INSTALL SMITE StartedAt: 2025-05-04 15:24:22 -0400 (Sun, 04 May 2025) EndedAt: 2025-05-04 15:24:42 -0400 (Sun, 04 May 2025) EllapsedTime: 20.4 seconds RetCode: 0 Status: OK