Package: SIMLR Version: 1.33.0 Command: rm -rf SIMLR.buildbin-libdir && mkdir SIMLR.buildbin-libdir && E:\biocbuild\bbs-3.21-bioc\R\bin\R.exe CMD INSTALL --build --library=SIMLR.buildbin-libdir SIMLR_1.33.0.tar.gz StartedAt: 2025-02-05 08:56:14 -0500 (Wed, 05 Feb 2025) EndedAt: 2025-02-05 08:56:48 -0500 (Wed, 05 Feb 2025) EllapsedTime: 33.9 seconds RetCode: 0 Status: OK PackageFile: SIMLR_1.33.0.zip PackageFileSize: 4.342 MiB