Package: SIMLR Version: 1.35.0 Command: /Library/Frameworks/R.framework/Resources/bin/R CMD INSTALL SIMLR StartedAt: 2025-07-25 15:07:29 -0400 (Fri, 25 Jul 2025) EndedAt: 2025-07-25 15:07:53 -0400 (Fri, 25 Jul 2025) EllapsedTime: 24.2 seconds RetCode: 0 Status: OK