Package: SIMD Version: 1.25.0 Command: E:\biocbuild\bbs-3.21-bioc\R\bin\R.exe CMD INSTALL SIMD StartedAt: 2025-02-02 15:28:28 -0500 (Sun, 02 Feb 2025) EndedAt: 2025-02-02 15:28:43 -0500 (Sun, 02 Feb 2025) EllapsedTime: 15.4 seconds RetCode: 0 Status: OK