Package: SIMD Version: 1.27.0 Command: /Library/Frameworks/R.framework/Resources/bin/R CMD INSTALL SIMD StartedAt: 2025-05-01 15:05:08 -0400 (Thu, 01 May 2025) EndedAt: 2025-05-01 15:05:43 -0400 (Thu, 01 May 2025) EllapsedTime: 35.3 seconds RetCode: 0 Status: OK