Package: SIMAT Version: 1.39.0 Command: /Library/Frameworks/R.framework/Resources/bin/R CMD build --keep-empty-dirs --no-resave-data SIMAT StartedAt: 2025-02-20 18:17:25 -0500 (Thu, 20 Feb 2025) EndedAt: 2025-02-20 18:17:48 -0500 (Thu, 20 Feb 2025) EllapsedTime: 22.9 seconds RetCode: 0 Status: OK PackageFile: SIMAT_1.39.0.tar.gz PackageFileSize: 1.037 MiB