Package: SIMAT Version: 1.39.0 Command: rm -rf SIMAT.buildbin-libdir && mkdir SIMAT.buildbin-libdir && /Users/biocbuild/BBS/utils/build-universal.sh SIMAT_1.39.0.tar.gz /Library/Frameworks/R.framework/Resources/bin/R SIMAT.buildbin-libdir StartedAt: 2025-02-20 22:35:44 -0500 (Thu, 20 Feb 2025) EndedAt: 2025-02-20 22:35:48 -0500 (Thu, 20 Feb 2025) EllapsedTime: 4.1 seconds RetCode: 0 Status: OK PackageFile: SIMAT_1.39.0.tgz PackageFileSize: 1.143 MiB