Package: SIAMCAT Version: 2.11.0 Command: E:\biocbuild\bbs-3.21-bioc\R\bin\R.exe CMD INSTALL SIAMCAT StartedAt: 2025-02-16 16:17:08 -0500 (Sun, 16 Feb 2025) EndedAt: 2025-02-16 16:18:24 -0500 (Sun, 16 Feb 2025) EllapsedTime: 75.9 seconds RetCode: 0 Status: OK