Package: SIAMCAT Version: 2.11.0 Command: /home/biocbuild/R/R/bin/R CMD build --keep-empty-dirs --no-resave-data SIAMCAT StartedAt: 2025-01-29 02:20:39 -0000 (Wed, 29 Jan 2025) EndedAt: 2025-01-29 02:25:22 -0000 (Wed, 29 Jan 2025) EllapsedTime: 282.3 seconds RetCode: 0 Status: OK PackageFile: SIAMCAT_2.11.0.tar.gz PackageFileSize: 18.63 MiB