Package: SGSeq Version: 1.43.1 Command: rm -rf SGSeq.buildbin-libdir && mkdir SGSeq.buildbin-libdir && F:\biocbuild\bbs-3.22-bioc\R\bin\R.exe CMD INSTALL --build --library=SGSeq.buildbin-libdir SGSeq_1.43.1.tar.gz StartedAt: 2025-08-15 11:18:56 -0400 (Fri, 15 Aug 2025) EndedAt: 2025-08-15 11:21:02 -0400 (Fri, 15 Aug 2025) EllapsedTime: 125.3 seconds RetCode: 0 Status: OK PackageFile: SGSeq_1.43.1.zip PackageFileSize: 1.686 MiB