Package: SGCP Version: 1.7.0 Command: E:\biocbuild\bbs-3.21-bioc\R\bin\R.exe CMD INSTALL SGCP StartedAt: 2025-01-10 16:53:52 -0500 (Fri, 10 Jan 2025) EndedAt: 2025-01-10 16:55:19 -0500 (Fri, 10 Jan 2025) EllapsedTime: 87.6 seconds RetCode: 0 Status: OK