Package: SGCP Version: 1.9.0 Command: /home/biocbuild/bbs-3.22-bioc/R/bin/R CMD build --keep-empty-dirs --no-resave-data --md5 SGCP StartedAt: 2025-10-09 20:06:41 -0400 (Thu, 09 Oct 2025) EndedAt: 2025-10-09 20:07:58 -0400 (Thu, 09 Oct 2025) EllapsedTime: 77.1 seconds RetCode: 1 Status: ERROR PackageFile: None PackageFileSize: NA