Package: SEtools Version: 1.23.3 Command: chmod a+r SEtools -R && F:\biocbuild\bbs-3.22-bioc\R\bin\R.exe CMD build --keep-empty-dirs --no-resave-data SEtools StartedAt: 2025-08-14 23:15:03 -0400 (Thu, 14 Aug 2025) EndedAt: 2025-08-14 23:16:10 -0400 (Thu, 14 Aug 2025) EllapsedTime: 67.3 seconds RetCode: 0 Status: OK PackageFile: SEtools_1.23.3.tar.gz PackageFileSize: 510.4 KiB