Package: SEraster Version: 1.1.0 Command: /home/biocbuild/bbs-3.22-bioc/R/bin/R CMD INSTALL SEraster StartedAt: 2025-10-10 15:32:32 -0400 (Fri, 10 Oct 2025) EndedAt: 2025-10-10 15:32:59 -0400 (Fri, 10 Oct 2025) EllapsedTime: 27.9 seconds RetCode: 0 Status: OK