Package: SEraster Version: 1.1.0 Command: /home/biocbuild/bbs-3.22-bioc/R/bin/R CMD build --keep-empty-dirs --no-resave-data --md5 SEraster StartedAt: 2025-10-10 20:12:59 -0400 (Fri, 10 Oct 2025) EndedAt: 2025-10-10 20:19:42 -0400 (Fri, 10 Oct 2025) EllapsedTime: 402.4 seconds RetCode: 0 Status: OK PackageFile: SEraster_1.1.0.tar.gz PackageFileSize: 2.721 MiB