Package: SETA Version: 0.99.6 Command: /home/biocbuild/bbs-3.22-bioc/R/bin/R CMD INSTALL SETA StartedAt: 2025-10-07 15:18:48 -0400 (Tue, 07 Oct 2025) EndedAt: 2025-10-07 15:19:11 -0400 (Tue, 07 Oct 2025) EllapsedTime: 23.0 seconds RetCode: 0 Status: OK