Package: SETA Version: 1.1.0 Command: /home/biocbuild/bbs-3.23-bioc/R/bin/R CMD INSTALL SETA StartedAt: 2025-11-07 15:19:36 -0500 (Fri, 07 Nov 2025) EndedAt: 2025-11-07 15:19:59 -0500 (Fri, 07 Nov 2025) EllapsedTime: 22.9 seconds RetCode: 0 Status: OK