Package: SETA Version: 0.99.7 Command: /Library/Frameworks/R.framework/Resources/bin/R CMD INSTALL SETA StartedAt: 2025-10-24 15:15:00 -0400 (Fri, 24 Oct 2025) EndedAt: 2025-10-24 15:15:09 -0400 (Fri, 24 Oct 2025) EllapsedTime: 9.7 seconds RetCode: 0 Status: OK