Package: SETA Version: 0.99.7 Command: /Library/Frameworks/R.framework/Resources/bin/R CMD build --keep-empty-dirs --no-resave-data SETA StartedAt: 2025-10-24 17:44:20 -0400 (Fri, 24 Oct 2025) EndedAt: 2025-10-24 17:44:54 -0400 (Fri, 24 Oct 2025) EllapsedTime: 33.4 seconds RetCode: 0 Status: OK PackageFile: SETA_0.99.7.tar.gz PackageFileSize: 4.937 MiB