Package: SETA Version: 0.99.7 Command: rm -rf SETA.buildbin-libdir && mkdir SETA.buildbin-libdir && /Users/biocbuild/BBS/utils/build-universal.sh SETA_0.99.7.tar.gz /Library/Frameworks/R.framework/Resources/bin/R SETA.buildbin-libdir StartedAt: 2025-10-24 23:19:47 -0400 (Fri, 24 Oct 2025) EndedAt: 2025-10-24 23:19:58 -0400 (Fri, 24 Oct 2025) EllapsedTime: 11.2 seconds RetCode: 0 Status: OK PackageFile: SETA_0.99.7.tgz PackageFileSize: 4.985 MiB