Package: SDAMS Version: 1.27.0 Command: chmod a+r SDAMS -R && E:\biocbuild\bbs-3.21-bioc\R\bin\R.exe CMD build --keep-empty-dirs --no-resave-data SDAMS StartedAt: 2025-02-03 21:48:04 -0500 (Mon, 03 Feb 2025) EndedAt: 2025-02-03 21:49:14 -0500 (Mon, 03 Feb 2025) EllapsedTime: 70.9 seconds RetCode: 0 Status: OK PackageFile: SDAMS_1.27.0.tar.gz PackageFileSize: 1.144 MiB