Package: SDAMS Version: 1.27.0 Command: rm -rf SDAMS.buildbin-libdir && mkdir SDAMS.buildbin-libdir && E:\biocbuild\bbs-3.21-bioc\R\bin\R.exe CMD INSTALL --build --library=SDAMS.buildbin-libdir SDAMS_1.27.0.tar.gz StartedAt: 2025-02-04 08:54:00 -0500 (Tue, 04 Feb 2025) EndedAt: 2025-02-04 08:54:30 -0500 (Tue, 04 Feb 2025) EllapsedTime: 30.5 seconds RetCode: 0 Status: OK PackageFile: SDAMS_1.27.0.zip PackageFileSize: 989.4 KiB