Package: SDAMS Version: 1.27.0 Command: /home/biocbuild/R/R/bin/R CMD INSTALL SDAMS StartedAt: 2025-01-29 19:43:22 -0000 (Wed, 29 Jan 2025) EndedAt: 2025-01-29 19:44:02 -0000 (Wed, 29 Jan 2025) EllapsedTime: 39.4 seconds RetCode: 0 Status: OK