Package: SCOPE Version: 1.21.0 Command: rm -rf SCOPE.buildbin-libdir && mkdir SCOPE.buildbin-libdir && F:\biocbuild\bbs-3.22-bioc\R\bin\R.exe CMD INSTALL --build --library=SCOPE.buildbin-libdir SCOPE_1.21.0.tar.gz StartedAt: 2025-08-15 11:16:08 -0400 (Fri, 15 Aug 2025) EndedAt: 2025-08-15 11:16:58 -0400 (Fri, 15 Aug 2025) EllapsedTime: 50.4 seconds RetCode: 0 Status: OK PackageFile: SCOPE_1.21.0.zip PackageFileSize: 583.1 KiB