Package: SCOPE Version: 1.19.0 Command: E:\biocbuild\bbs-3.21-bioc\R\bin\R.exe CMD INSTALL SCOPE StartedAt: 2025-02-18 16:26:37 -0500 (Tue, 18 Feb 2025) EndedAt: 2025-02-18 16:27:27 -0500 (Tue, 18 Feb 2025) EllapsedTime: 49.6 seconds RetCode: 0 Status: OK