Package: SCOPE Version: 1.19.0 Command: chmod a+r SCOPE -R && E:\biocbuild\bbs-3.21-bioc\R\bin\R.exe CMD build --keep-empty-dirs --no-resave-data SCOPE StartedAt: 2025-02-18 21:25:50 -0500 (Tue, 18 Feb 2025) EndedAt: 2025-02-18 21:38:58 -0500 (Tue, 18 Feb 2025) EllapsedTime: 787.3 seconds RetCode: 0 Status: OK PackageFile: SCOPE_1.19.0.tar.gz PackageFileSize: 391.8 KiB