Package: SCFA Version: 1.19.0 Command: rm -rf SCFA.buildbin-libdir && mkdir SCFA.buildbin-libdir && F:\biocbuild\bbs-3.22-bioc\R\bin\R.exe CMD INSTALL --build --library=SCFA.buildbin-libdir SCFA_1.19.0.tar.gz StartedAt: 2025-08-15 11:15:13 -0400 (Fri, 15 Aug 2025) EndedAt: 2025-08-15 11:15:37 -0400 (Fri, 15 Aug 2025) EllapsedTime: 24.3 seconds RetCode: 0 Status: OK PackageFile: SCFA_1.19.0.zip PackageFileSize: 1.405 MiB