Package: SCFA Version: 1.17.0 Command: /Library/Frameworks/R.framework/Resources/bin/R CMD check --install=check:SCFA.install-out.txt --library=/Library/Frameworks/R.framework/Resources/library --no-vignettes --timings SCFA_1.17.0.tar.gz StartedAt: 2025-02-03 23:06:43 -0500 (Mon, 03 Feb 2025) EndedAt: 2025-02-03 23:11:39 -0500 (Mon, 03 Feb 2025) EllapsedTime: 296.1 seconds RetCode: 0 Status: OK CheckDir: SCFA.Rcheck Warnings: 0