Package: SCBN Version: 1.27.0 Command: /home/biocbuild/bbs-3.22-bioc/R/bin/R CMD build --keep-empty-dirs --no-resave-data --md5 SCBN StartedAt: 2025-09-29 20:07:07 -0400 (Mon, 29 Sep 2025) EndedAt: 2025-09-29 20:07:52 -0400 (Mon, 29 Sep 2025) EllapsedTime: 44.0 seconds RetCode: 0 Status: OK PackageFile: SCBN_1.27.0.tar.gz PackageFileSize: 516.9 KiB