Package: SCArray Version: 1.17.0 Command: /home/biocbuild/bbs-3.22-bioc/R/bin/R CMD check --install=check:SCArray.install-out.txt --library=/home/biocbuild/bbs-3.22-bioc/R/site-library --timings SCArray_1.17.0.tar.gz StartedAt: 2025-10-07 03:55:45 -0400 (Tue, 07 Oct 2025) EndedAt: 2025-10-07 03:59:51 -0400 (Tue, 07 Oct 2025) EllapsedTime: 246.6 seconds RetCode: 0 Status: OK CheckDir: SCArray.Rcheck Warnings: 0