Package: SCArray Version: 1.15.1 Command: rm -rf SCArray.buildbin-libdir && mkdir SCArray.buildbin-libdir && /Users/biocbuild/BBS/utils/build-universal.sh SCArray_1.15.1.tar.gz /Library/Frameworks/R.framework/Resources/bin/R SCArray.buildbin-libdir StartedAt: 2025-02-03 00:43:10 -0500 (Mon, 03 Feb 2025) EndedAt: 2025-02-03 00:44:08 -0500 (Mon, 03 Feb 2025) EllapsedTime: 57.7 seconds RetCode: 0 Status: OK PackageFile: SCArray_1.15.1.tgz PackageFileSize: 2.407 MiB