Package: SCArray.sat Version: 1.9.0 Command: /home/biocbuild/bbs-3.22-bioc/R/bin/R CMD check --install=check:SCArray.sat.install-out.txt --library=/home/biocbuild/bbs-3.22-bioc/R/site-library --timings SCArray.sat_1.9.0.tar.gz StartedAt: 2025-10-01 03:47:01 -0400 (Wed, 01 Oct 2025) EndedAt: 2025-10-01 03:53:30 -0400 (Wed, 01 Oct 2025) EllapsedTime: 388.7 seconds RetCode: 0 Status: OK CheckDir: SCArray.sat.Rcheck Warnings: 0