Package: SCArray.sat Version: 1.9.0 Command: /home/biocbuild/bbs-3.22-bioc/R/bin/R CMD build --keep-empty-dirs --no-resave-data --md5 SCArray.sat StartedAt: 2025-07-24 19:06:17 -0400 (Thu, 24 Jul 2025) EndedAt: 2025-07-24 19:07:43 -0400 (Thu, 24 Jul 2025) EllapsedTime: 86.1 seconds RetCode: 0 Status: OK PackageFile: SCArray.sat_1.9.0.tar.gz PackageFileSize: 665.9 KiB