Package: SCArray.sat Version: 1.9.0 Command: /Library/Frameworks/R.framework/Resources/bin/R CMD build --keep-empty-dirs --no-resave-data SCArray.sat StartedAt: 2025-07-15 18:29:25 -0400 (Tue, 15 Jul 2025) EndedAt: 2025-07-15 18:31:02 -0400 (Tue, 15 Jul 2025) EllapsedTime: 97.6 seconds RetCode: 0 Status: OK PackageFile: SCArray.sat_1.9.0.tar.gz PackageFileSize: 693 KiB