Package: SCArray.sat Version: 1.9.0 Command: /Library/Frameworks/R.framework/Resources/bin/R CMD INSTALL SCArray.sat StartedAt: 2025-05-09 15:30:54 -0400 (Fri, 09 May 2025) EndedAt: 2025-05-09 15:31:12 -0400 (Fri, 09 May 2025) EllapsedTime: 18.7 seconds RetCode: 0 Status: OK