Package: SCArray.sat Version: 1.9.0 Command: /Library/Frameworks/R.framework/Resources/bin/R CMD check --install=check:SCArray.sat.install-out.txt --library=/Library/Frameworks/R.framework/Resources/library --no-vignettes --timings SCArray.sat_1.9.0.tar.gz StartedAt: 2025-05-16 21:06:11 -0400 (Fri, 16 May 2025) EndedAt: 2025-05-16 21:08:02 -0400 (Fri, 16 May 2025) EllapsedTime: 110.3 seconds RetCode: 0 Status: OK CheckDir: SCArray.sat.Rcheck Warnings: 0