Package: SCAN.UPC Version: 2.49.0 Command: /home/biocbuild/R/R/bin/R CMD INSTALL SCAN.UPC StartedAt: 2025-01-29 20:18:04 -0000 (Wed, 29 Jan 2025) EndedAt: 2025-01-29 20:18:05 -0000 (Wed, 29 Jan 2025) EllapsedTime: 1.2 seconds RetCode: 1 Status: ERROR