Package: SC3 Version: 1.37.0 Command: /home/biocbuild/R/R/bin/R CMD INSTALL SC3 StartedAt: 2025-10-16 21:31:42 -0000 (Thu, 16 Oct 2025) EndedAt: 2025-10-16 21:32:43 -0000 (Thu, 16 Oct 2025) EllapsedTime: 60.5 seconds RetCode: 0 Status: OK