Package: SC3 Version: 1.37.0 Command: /home/biocbuild/R/R/bin/R CMD build --keep-empty-dirs --no-resave-data SC3 StartedAt: 2025-10-17 04:14:50 -0000 (Fri, 17 Oct 2025) EndedAt: 2025-10-17 04:24:10 -0000 (Fri, 17 Oct 2025) EllapsedTime: 560.5 seconds RetCode: 0 Status: OK PackageFile: SC3_1.37.0.tar.gz PackageFileSize: 2.421 MiB