Package: SC3 Version: 1.35.0 Command: E:\biocbuild\bbs-3.21-bioc\R\bin\R.exe CMD check --no-multiarch --install=check:SC3.install-out.txt --library=E:\biocbuild\bbs-3.21-bioc\R\library --no-vignettes --timings SC3_1.35.0.tar.gz StartedAt: 2025-02-11 05:13:52 -0500 (Tue, 11 Feb 2025) EndedAt: 2025-02-11 05:17:25 -0500 (Tue, 11 Feb 2025) EllapsedTime: 212.9 seconds RetCode: 0 Status: OK CheckDir: SC3.Rcheck Warnings: 0