Package: SC3 Version: 1.35.0 Command: chmod a+r SC3 -R && E:\biocbuild\bbs-3.21-bioc\R\bin\R.exe CMD build --keep-empty-dirs --no-resave-data SC3 StartedAt: 2025-02-10 21:35:14 -0500 (Mon, 10 Feb 2025) EndedAt: 2025-02-10 21:44:23 -0500 (Mon, 10 Feb 2025) EllapsedTime: 548.4 seconds RetCode: 0 Status: OK PackageFile: SC3_1.35.0.tar.gz PackageFileSize: 2.183 MiB