Package: SC3 Version: 1.35.0 Command: rm -rf SC3.buildbin-libdir && mkdir SC3.buildbin-libdir && E:\biocbuild\bbs-3.21-bioc\R\bin\R.exe CMD INSTALL --build --library=SC3.buildbin-libdir SC3_1.35.0.tar.gz StartedAt: 2025-02-06 08:56:19 -0500 (Thu, 06 Feb 2025) EndedAt: 2025-02-06 08:58:07 -0500 (Thu, 06 Feb 2025) EllapsedTime: 108.1 seconds RetCode: 0 Status: OK PackageFile: SC3_1.35.0.zip PackageFileSize: 3.718 MiB