Package: SC3 Version: 1.35.0 Command: /home/biocbuild/R/R/bin/R CMD build --keep-empty-dirs --no-resave-data SC3 StartedAt: 2025-01-29 01:57:59 -0000 (Wed, 29 Jan 2025) EndedAt: 2025-01-29 02:07:27 -0000 (Wed, 29 Jan 2025) EllapsedTime: 567.6 seconds RetCode: 0 Status: OK PackageFile: SC3_1.35.0.tar.gz PackageFileSize: 2.42 MiB